BEGIN:VCALENDAR
VERSION:2.0
PRODID:-//TLT Concert Hall &amp; Theatre - ECPv4.4.1.1//NONSGML v1.0//EN
CALSCALE:GREGORIAN
METHOD:PUBLISH
X-WR-CALNAME:TLT Concert Hall &amp; Theatre
X-ORIGINAL-URL:http://thetlt.ie
X-WR-CALDESC:Events for TLT Concert Hall &amp; Theatre
BEGIN:VEVENT
DTSTART;VALUE=DATE:20180127
DTEND;VALUE=DATE:20180127
DTSTAMP:20171030T092508
CREATED:20170516T121704Z
LAST-MODIFIED:20170516T121704Z
UID:5788-1517011200-1517097599@thetlt.ie
SUMMARY:Trevor Smith & Friends in Low Places 2018
DESCRIPTION:Friends In Low Places â€“ The Music Of Garth Brooks\n\n Friends In Low Places\, better known as The Ultimate Garth Brooks Experience\, has been wowing Garth Brooks fans across Ireland for over 2 years now\, and after its last rocking performance at The TLT in August it makes a return visit to The TLT on Saturday the 27thof January by popular demand!\n\n The show is fronted by well known country singer Trevor Smyth and features an array of top class musicians from around Ireland to make up the 8 piece band better known as â€śFriends In Low Placesâ€ť. \n\nYou can expect to hear all the greatest hits of American country-music legend Garth Brooks who rose to fame worldwide in the 1990â€™s with his own brand of country music which spawned such classic songs as â€śIf Tomorrow Never Comesâ€ť\, Friends In Low Placesâ€ť\, â€śThe Danceâ€ť\, â€śBaton Rougeâ€ť\, â€śShamelessâ€ť\, â€śUnanswered Prayersâ€ť and many more... \n\n \n\nHereâ€™s some of the comments left by the audience who recently went to see the band play across the country on their â€śHats and Boots tourâ€ť\n\nâ€śGreat night. The band were amazing... I didnâ€™t even know I knew that many Garth Brooks songs!â€ť\n\nâ€śGareth Brooks is Back!! â€ś\n\nâ€śIf you're a Gareth Brooks fan you would love Friends in Low Places. The singing\, music and stage effects were absolutely brilliant. The main singer was really great - if you close your eyes you'd think it was Gareth Brooks. I'd definitely go to see them next time. Highly recommend them. Brilliant night can't wait for the next one.â€ť\n\nâ€śExceptional tribute show.â€ť\n\nâ€śHad the best time ever!!  I loved every minute of it!! I am an ultimate Garth Brooke fan and the show was a close second to the real thing!!â€ť\n\nâ€śWhat a fantastic night - brilliant gig!! If u know anyone who has any interest in Garth Brooks they should go see this show...Trevor and the band give everyone a fab night and the best bit is its 100% live music from the best musicians around.â€ť\n\nâ€śJust class from start to finish\, a live band worth watching even if youâ€™re not a Garth Brooks fanâ€ť.\n\nYou can expect a similar electrifying show that Garth Brooks is renowned for with the state of the art light and sound production at â€śFriends In Low Placesâ€ť\n\nThis show is a must see and is promised to offer you the next best thing to the man himself!\nâ€śIf you canâ€™t make it to see Garth Brooks live\, Friends In Low Places is as close as youâ€™ll get to experiencing the country legendâ€™s dynamic stage performances. \nThis fond tribute show uncannily matches the great manâ€™s country authenticity with an exciting standard of showmanship and stage-craft that are rare in modern country music.â€ť\nJackie Hayden - Hot Press Magazine\n\n \n\n 
URL:http://thetlt.ie/event/trevor-smith-friends-in-low-places-2018/
CATEGORIES:Events,Featured Events
END:VEVENT
END:VCALENDAR