BEGIN:VCALENDAR
VERSION:2.0
PRODID:-//TLT Concert Hall &amp; Theatre - ECPv4.4.1.1//NONSGML v1.0//EN
CALSCALE:GREGORIAN
METHOD:PUBLISH
X-WR-CALNAME:TLT Concert Hall &amp; Theatre
X-ORIGINAL-URL:http://thetlt.ie
X-WR-CALDESC:Events for TLT Concert Hall &amp; Theatre
BEGIN:VEVENT
DTSTART;VALUE=DATE:20171013
DTEND;VALUE=DATE:20171013
DTSTAMP:20171030T095805
CREATED:20170720T080006Z
LAST-MODIFIED:20170720T080006Z
UID:5890-1507852800-1507939199@thetlt.ie
SUMMARY:Tommy Tiernan "UNDER THE INFLUENCE "
DESCRIPTION:\n\nDue to phenomenal demand Tommy Tiernan has added extra shows to his Under The Influence tour.\n\nAs if receiving instructions from a strange and distant star\, Tommy Tiernan takes to the stage refusing to take anything seriously. The political and the personal are all up for grabs as the only goal of the evening is laughter. Let our struggles be mocked and our cares abandoned. Allow yourself be guided by a language loving and theatrical performer with a half thought out plan\, no professional qualifications and a mouth with a mind of its own. Can you trust him? To be silly\, yes. To behave\, no. Like a bus conductor standing in front of an orchestra with a spoon in one hand and air horn in the other what could possibly go wrong!?\n\n"A wide eyed philosopher of love and life who performs as if appalled by the idea of being bland"  - THE GUARDIAN
URL:http://thetlt.ie/event/tommy-tiernan-under-the-influence/
CATEGORIES:Events,Featured Events
END:VEVENT
END:VCALENDAR