BEGIN:VCALENDAR
VERSION:2.0
PRODID:-//TLT Concert Hall &amp; Theatre - ECPv4.4.1.1//NONSGML v1.0//EN
CALSCALE:GREGORIAN
METHOD:PUBLISH
X-WR-CALNAME:TLT Concert Hall &amp; Theatre
X-ORIGINAL-URL:http://thetlt.ie
X-WR-CALDESC:Events for TLT Concert Hall &amp; Theatre
BEGIN:VEVENT
DTSTART;VALUE=DATE:20180518
DTEND;VALUE=DATE:20180518
DTSTAMP:20171030T092942
CREATED:20171024T115307Z
LAST-MODIFIED:20171024T115307Z
UID:5938-1526601600-1526687999@thetlt.ie
SUMMARY:The Simon & Garfnkel Story
DESCRIPTION:The Simon and Garfunkel Story\n\n(50th Anniversary Tour)\n\nDirect from it’s success in London’s West End\, a SOLD OUT UK tour and standing ovations at every performance\, The Simon & Garfunkel Story is back! Using huge projection photos and original film footage\, this 50th Anniversary Celebration also features a full live band performing all the hits including 'Mrs Robinson'\, 'Cecilia'\, 'Bridge Over Troubled Water'\, 'Homeward Bound' and many more. Get your tickets fast as this is an evening not to be missed!\n\n"Fantastic” - Elaine Paige\, BBC Radio 2. "Authentic and Exciting” - The Stage\n\nwww.thesimonandgarfunkelstory.com\n\n\n\n
URL:http://thetlt.ie/event/the-simon-garfnkel-story/
CATEGORIES:Events,Featured Events
END:VEVENT
END:VCALENDAR