BEGIN:VCALENDAR
VERSION:2.0
PRODID:-//TLT Concert Hall &amp; Theatre - ECPv4.4.1.1//NONSGML v1.0//EN
CALSCALE:GREGORIAN
METHOD:PUBLISH
X-WR-CALNAME:TLT Concert Hall &amp; Theatre
X-ORIGINAL-URL:http://thetlt.ie
X-WR-CALDESC:Events for TLT Concert Hall &amp; Theatre
BEGIN:VEVENT
DTSTART;VALUE=DATE:20161015
DTEND;VALUE=DATE:20161015
DTSTAMP:20171030T094050
CREATED:20160425T154039Z
LAST-MODIFIED:20160425T154039Z
UID:5481-1476489600-1476575940@thetlt.ie
SUMMARY:Nights on Broadway - The Bee Gee's Story
DESCRIPTION:\n\n\n\n Following its sell-out theatre debut The Bee Gees Story - Nights on Broadway is back!\n\n\n"From the musicianship to the vocal harmonies\, these guys sound so like the Bee Gees it's scary!"\nBrendan O'Carroll (BAFTA winning International Comedian star of ‘Mrs. Browns Boys’)\n\n"This is an absolutely superb show. Highly recommended! The boys have the vocals down to a fine art."\nJohnny Logan (International Artist & 3 times Eurovision Winner)\n\n\nYou can't see the Bee Gees anymore\, but you can see ‘Nights on Broadway’ and still experience a concert of the incredible music written by the brothers Gibb. \n\n‘Nights On Broadway’ presents a tribute to the Bee Gees through their catalogue of hits over 4 decades from the 60s to the 90s.  The full live band blend the classic hits\, acoustic medleys and dance floor fillers which define the show.\nThis is a totally live concert experience which prides itself on musical\, in particular vocal authenticity\, while the accompanying costume changes compliment the show to give audiences a truly original feeling.  \n\nAs well as their live theatre performances\, the band have appeared on each of Ireland’s national television stations (RTE\, TV3\, TG4). \nWhether you favor the golden era of the 60s\, the dance floor hits of the 70s\, the comeback hits of the 80s & 90s or the string of hits they wrote for various artists along the way\, this show has something to entertain everyone from the novice to the most discerning fan.\n\nwww.nightsonbroadway.net\n
URL:http://thetlt.ie/event/nights-on-broadway-the-bee-gees-story/
CATEGORIES:Featured Events
END:VEVENT
END:VCALENDAR