BEGIN:VCALENDAR
VERSION:2.0
PRODID:-//TLT Concert Hall &amp; Theatre - ECPv4.4.1.1//NONSGML v1.0//EN
CALSCALE:GREGORIAN
METHOD:PUBLISH
X-WR-CALNAME:TLT Concert Hall &amp; Theatre
X-ORIGINAL-URL:http://thetlt.ie
X-WR-CALDESC:Events for TLT Concert Hall &amp; Theatre
BEGIN:VEVENT
DTSTART;VALUE=DATE:20160704
DTEND;VALUE=DATE:20160709
DTSTAMP:20171030T094147
CREATED:20160412T122321Z
LAST-MODIFIED:20160531T164730Z
UID:5453-1467590400-1468108799@thetlt.ie
SUMMARY:Great Sounds Lighting and Sound Course
DESCRIPTION:\n\nGreat Sounds Live Sound and Lighting Course returns to the TLT this summer.\n\nContact Patrick on 087 6886782 or patrick@thetlt.ie to book your place.\nOr you can also contact the TLT 041 9878560
URL:http://thetlt.ie/event/great-sounds-lighting-and-sound-course/
CATEGORIES:Events,Featured Events
ATTACH;FMTTYPE=image/jpeg:http://thetlt.ie/wp-content/uploads/2016/04/great-sounds.jpg
END:VEVENT
END:VCALENDAR