BEGIN:VCALENDAR
VERSION:2.0
PRODID:-//TLT Concert Hall &amp; Theatre - ECPv4.4.1.1//NONSGML v1.0//EN
CALSCALE:GREGORIAN
METHOD:PUBLISH
X-WR-CALNAME:TLT Concert Hall &amp; Theatre
X-ORIGINAL-URL:http://thetlt.ie
X-WR-CALDESC:Events for TLT Concert Hall &amp; Theatre
BEGIN:VEVENT
DTSTART;VALUE=DATE:20161014
DTEND;VALUE=DATE:20161014
DTSTAMP:20171030T093743
CREATED:20160412T115917Z
LAST-MODIFIED:20160926T095941Z
UID:5448-1476403200-1476489599@thetlt.ie
SUMMARY:Derek Ryan "One Good Night"
DESCRIPTION: Derek Ryan’s rise to become one of the biggest stars of Irish Country music has been phenomenal. In just over five years few artists have made such an impact on the Irish country scene like the Co. Carlow singer songwriter. Having played to sell out concert audiences around the world with Irish boyband D-Side\, the young heartthrob has brought a distinctive fresh sound to Irish country.\nDerek Ryan has become a sell out artist and has topped the Irish national charts and the UK iTunes country charts with his albums. His theatre shows contain much of the music featured on his six albums including many of his own self-penned songs\, God’s Plan and ‘Life Is A River’\, as well as many country classics.\nHe is a constant recipient of Ireland’s most prestigious music awards and is regularly awarded both ‘Entertainer of the Year’ ‘Songwriter of the Year’ and “Album of the Year’\nDerek Ryan’s ‘One Good Night\, concert tour includes a mix of old favourites\, classic country and Derek’s own original material.\nFurther information is available from www.derekryanmusic.com\n\nDerek will be joined by Ben Troy on the night.\n\nBook early to avoid disappointment
URL:http://thetlt.ie/event/derek-ryan-one-good-night/
CATEGORIES:Featured Events
END:VEVENT
END:VCALENDAR