BEGIN:VCALENDAR
VERSION:2.0
PRODID:-//TLT Concert Hall &amp; Theatre - ECPv4.4.1.1//NONSGML v1.0//EN
CALSCALE:GREGORIAN
METHOD:PUBLISH
X-WR-CALNAME:TLT Concert Hall &amp; Theatre
X-ORIGINAL-URL:http://thetlt.ie
X-WR-CALDESC:Events for TLT Concert Hall &amp; Theatre
BEGIN:VEVENT
DTSTART;VALUE=DATE:20180128
DTEND;VALUE=DATE:20180128
DTSTAMP:20171030T093834
CREATED:20171002T170205Z
LAST-MODIFIED:20171002T170205Z
UID:5929-1517097600-1517183999@thetlt.ie
SUMMARY:Charlie Landsborough
DESCRIPTION:Charlie Landsborough\n\nCharlie is generally recognised and categorised as a country singer\, however\, as his fans will tell you\, country music is only one part of his live shows and music catalogue. Winner of â€˜Best Songwriterâ€™\, â€˜Best Songâ€™\, â€˜Best Male Vocalistâ€™ & â€˜International Country Albumâ€™ Charlieâ€™s talent and chart-topping records received the ultimate recognition in 2011 when he was inducted into the British Country Music Hall of Fame- a wonderful achievement for any artist.\nJoin us for a memorable evening of beautiful ballads\, folk\, blues\, country\, rock â€˜nâ€™ roll\, pop\, gospel and anthems with the immensely talented Charlie Landsborough.\n\n \n\nIf you like warmth\, honesty and credibility in a show you will love Charlie Landsborough â€“ Gerry Kelly (BBC Radio Ulster)
URL:http://thetlt.ie/event/charlie-landsborough/
CATEGORIES:Events,Featured Events
END:VEVENT
END:VCALENDAR