BEGIN:VCALENDAR
VERSION:2.0
PRODID:-//TLT Concert Hall &amp; Theatre - ECPv4.4.1.1//NONSGML v1.0//EN
CALSCALE:GREGORIAN
METHOD:PUBLISH
X-WR-CALNAME:TLT Concert Hall &amp; Theatre
X-ORIGINAL-URL:http://thetlt.ie
X-WR-CALDESC:Events for TLT Concert Hall &amp; Theatre
BEGIN:VEVENT
DTSTART;VALUE=DATE:20170415
DTEND;VALUE=DATE:20170415
DTSTAMP:20171030T092923
CREATED:20170130T130120Z
LAST-MODIFIED:20170130T130120Z
UID:5658-1492214400-1492300799@thetlt.ie
SUMMARY:Bagatelle One for the Road
DESCRIPTION:Due to pressure from their record company and a loyal fan base\, Bagatelle are performing a handful of shows in selected Irish venues\, who have impacted on their 39 year career to date. So â€śThe One for The Road Tourâ€ť was born as they plan to unwind from the Worldâ€™s Stage. \n\nLiam Reilly and the band take to the TLT stage to play all the favourites including Second Violin and Summer in Dublin\, Leeson Street Lady and many more of the songs that made this band a household name in Ireland\, the UK\, Europe and The US. Bagatelle have shared stages with artists such as Bob Marley\, Don McLean\, Jose Feliciano and many more\, too numerous to mention. They have had albums produced by Phil Coulter and the late Gus Dudgeon\, who produced for David Bowie and Elton John. They also appeared on the "Self Aid" concert in the mid-1980s with U2Van Morrison\n\nThis tour is a testament to their talent\, hard work and unrivalled staying powerâ€™. Hear the classics\, the soundtrack to several generations\, at the TLT Theatre\, Drogheda on Saturday 15th April 2017 @ 8.00pm. Tickets â‚¬25 + booking fee
URL:http://thetlt.ie/event/bagatelle-one-for-the-road/
CATEGORIES:Events,Featured Events
END:VEVENT
END:VCALENDAR