BEGIN:VCALENDAR
VERSION:2.0
PRODID:-//TLT Concert Hall &amp; Theatre - ECPv4.4.1.1//NONSGML v1.0//EN
CALSCALE:GREGORIAN
METHOD:PUBLISH
X-WR-CALNAME:TLT Concert Hall &amp; Theatre
X-ORIGINAL-URL:http://thetlt.ie
X-WR-CALDESC:Events for TLT Concert Hall &amp; Theatre
BEGIN:VEVENT
DTSTART;VALUE=DATE:20170826
DTEND;VALUE=DATE:20170826
DTSTAMP:20171030T093535
CREATED:20170414T124136Z
LAST-MODIFIED:20170414T124136Z
UID:5760-1503705600-1503791999@thetlt.ie
SUMMARY:American Wrestling 2017
DESCRIPTION:\n\nDon't miss out this year when the goodies take on the baddies in an unforgettable evening featuring future WWE Superstars! It is an ideal event for families with small children.\n\nAdvanced booking is strongly recommended!!!\n\nTickets â‚¬10 + Booking Fee\n\nSaturday 26th August @ 3pm\n\n 
URL:http://thetlt.ie/event/american-wrestling-2017/
CATEGORIES:Events,Featured Events
END:VEVENT
END:VCALENDAR