BEGIN:VCALENDAR
VERSION:2.0
PRODID:-//TLT Concert Hall &amp; Theatre - ECPv4.4.1.1//NONSGML v1.0//EN
CALSCALE:GREGORIAN
METHOD:PUBLISH
X-WR-CALNAME:TLT Concert Hall &amp; Theatre
X-ORIGINAL-URL:http://thetlt.ie
X-WR-CALDESC:Events for TLT Concert Hall &amp; Theatre
BEGIN:VEVENT
DTSTART;VALUE=DATE:20171202
DTEND;VALUE=DATE:20171202
DTSTAMP:20171030T091507
CREATED:20170531T155600Z
LAST-MODIFIED:20170712T101536Z
UID:5839-1512172800-1512259199@thetlt.ie
SUMMARY:ABBA FOREVER '17
DESCRIPTION:ABBA Forever\n\nABBA Forever are returning to the TLT Theatre on Saturday 2nd December @ 8.00pm.\n\nABBA Forever is one of the UKâ€™s leading International tribute Shows and theatre audiences from across Great Britain and Sweden have long enjoyed this superb  recreation of possibly the worldâ€˜s greatest pop band.\n\nThe unique Abba sound is replicated with an incredible attention to detail\, using a six-piece band featuring electric and acoustic guitars\, keyboards and piano\, drums and bass guitar. Two outstanding Abba girls complete the line-up\, adding the essential glitz and glamour to a well-polished and gently humorous show. \n\nThe wonderful lyrics penned by Benny and Bjorn are sung in wonderful harmony by all six performers on stage. Dynamic non-stop choreography\, stunning visuals\, top class musicianship and an ALL LIVE performance ensures that the ABBA Forever Show captivates audiences from the opening refrain to the final sing-along chorus of this two-hour spectacular !!\n\n \n\nTickets â‚¬25 + Booking Fee\n\nGroups 10+1 Free\n\n \n\n 
URL:http://thetlt.ie/event/abba-forever-17/
CATEGORIES:Events,Featured Events
END:VEVENT
END:VCALENDAR